BEGIN:VCALENDAR
VERSION:2.0
PRODID:-//Library Market//iCal Export//EN
BEGIN:VEVENT
SUMMARY:Youth 3D Printing
UID:43239
DTSTAMP:20260425T152600Z
DTSTART:20260425T163000Z
DTEND:20260425T183000Z
LOCATION:Mead Public Library, 710 N. 8th Street, Sheboygan, WI 53081, Unit
 ed States
ROOM: Youth 3D Printing
DESCRIPTION:1 3D Printer: Natalya Kopavena
URL:https://www.meadpl.org/event/youth-3d-printing-43239
END:VEVENT
END:VCALENDAR
