BEGIN:VCALENDAR
VERSION:2.0
PRODID:-//Library Market//iCal Export//EN
BEGIN:VEVENT
SUMMARY:Mead Board of Trustees Art Committee
UID:43224
DTSTAMP:20260424T025600Z
DTSTART:20260504T174500Z
DTEND:20260504T190000Z
LOCATION:Mead Public Library, 710 N. 8th Street, Sheboygan, WI 53081, Unit
 ed States
ROOM: Public Conference Room #2
DESCRIPTION:
URL:https://www.meadpl.org/event/mead-art-committee-43224
END:VEVENT
END:VCALENDAR
