BEGIN:VCALENDAR
VERSION:2.0
PRODID:-//Library Market//iCal Export//EN
BEGIN:VEVENT
SUMMARY:HOLD FOR WI ACADEMY TALK
UID:43170
DTSTAMP:20260423T162600Z
DTSTART:20261110T060000Z
DTEND:20261110T060000Z
LOCATION:Mead Public Library, 710 N. 8th Street, Sheboygan, WI 53081, Unit
 ed States
ROOM: Rocca Meeting Room
DESCRIPTION:
URL:https://www.meadpl.org/event/hold-wi-academy-talk-43170
END:VEVENT
END:VCALENDAR
