BEGIN:VCALENDAR
VERSION:2.0
PRODID:-//Library Market//iCal Export//EN
BEGIN:VEVENT
SUMMARY:English Conversation Circle
UID:43122
DTSTAMP:20260421T004300Z
DTSTART:20260622T223000Z
DTEND:20260623T003000Z
LOCATION:Mead Public Library, 710 N. 8th Street, Sheboygan, WI 53081, Unit
 ed States
ROOM: Public Conference Room #1
DESCRIPTION:Practice English in a fun, casual setting.
URL:https://www.meadpl.org/event/english-conversation-circle-43122
END:VEVENT
END:VCALENDAR
