BEGIN:VCALENDAR
VERSION:2.0
PRODID:-//Library Market//iCal Export//EN
BEGIN:VEVENT
SUMMARY:English Conversation Circle
UID:43118
DTSTAMP:20260421T023200Z
DTSTART:20260504T223000Z
DTEND:20260505T003000Z
LOCATION:Mead Public Library, 710 N. 8th Street, Sheboygan, WI 53081, Unit
 ed States
ROOM: Public Conference Room #1
DESCRIPTION:Practice English in a casual setting
URL:https://www.meadpl.org/event/english-conversation-circle-43118
END:VEVENT
END:VCALENDAR
