BEGIN:VCALENDAR
VERSION:2.0
PRODID:-//Library Market//iCal Export//EN
BEGIN:VEVENT
SUMMARY:Extra Worktime with Elaine
UID:43114
DTSTAMP:20260421T140900Z
DTSTART:20260421T220000Z
DTEND:20260421T223000Z
LOCATION:Mead Public Library, 710 N. 8th Street, Sheboygan, WI 53081, Unit
 ed States
ROOM: Imaginarium
DESCRIPTION:Extra worktime for the skirts
URL:https://www.meadpl.org/event/extra-worktime-elaine-43114
END:VEVENT
END:VCALENDAR
