BEGIN:VCALENDAR
VERSION:2.0
PRODID:-//Library Market//iCal Export//EN
BEGIN:VEVENT
SUMMARY:Exclusions &amp; Appeals Hearings
UID:43111
DTSTAMP:20260421T151800Z
DTSTART:20260423T180000Z
DTEND:20260423T190000Z
LOCATION:Mead Public Library, 710 N. 8th Street, Sheboygan, WI 53081, Unit
 ed States
ROOM: Rocca Meeting Room
DESCRIPTION:
URL:https://www.meadpl.org/event/exclusions-appeals-hearings-43111
END:VEVENT
END:VCALENDAR
