BEGIN:VCALENDAR
VERSION:2.0
PRODID:-//Library Market//iCal Export//EN
BEGIN:VEVENT
SUMMARY:Wisconsin Retirement System Presentation
UID:43105
DTSTAMP:20260421T063700Z
DTSTART:20260617T170000Z
DTEND:20260617T180000Z
LOCATION:Mead Public Library, 710 N. 8th Street, Sheboygan, WI 53081, Unit
 ed States
ROOM: Rocca Meeting Room
DESCRIPTION:Giving a presentation of Wisconsin retirement system that is o
 pen to all public sector employees.
URL:https://www.meadpl.org/event/wisconsin-retirement-system-presentation-
 43105
END:VEVENT
END:VCALENDAR
