BEGIN:VCALENDAR
VERSION:2.0
PRODID:-//Library Market//iCal Export//EN
BEGIN:VEVENT
SUMMARY:English for Spanish Speakers
UID:43091
DTSTAMP:20260421T004300Z
DTSTART:20260513T223000Z
DTEND:20260514T003000Z
LOCATION:Mead Public Library, 710 N. 8th Street, Sheboygan, WI 53081, Unit
 ed States
ROOM: Public Conference Room #2
DESCRIPTION:To teach English to native Spanish speakers.
URL:https://www.meadpl.org/event/english-spanish-speakers-43091
END:VEVENT
END:VCALENDAR
