BEGIN:VCALENDAR
VERSION:2.0
PRODID:-//Library Market//iCal Export//EN
BEGIN:VEVENT
SUMMARY:Tarot Club
UID:43087
DTSTAMP:20260420T205600Z
DTSTART:20260523T170000Z
DTEND:20260523T190000Z
LOCATION:Mead Public Library, 710 N. 8th Street, Sheboygan, WI 53081, Unit
 ed States
ROOM: The Loft
DESCRIPTION:A safe space for those who want to learn about and practice ta
 rot cards and tarot card reading. No experience needed. 
URL:https://www.meadpl.org/event/tarot-club-43087
END:VEVENT
END:VCALENDAR
