BEGIN:VCALENDAR
VERSION:2.0
PRODID:-//Library Market//iCal Export//EN
BEGIN:VEVENT
SUMMARY:Friends Big Book Sale
UID:42947
DTSTAMP:20260423T095700Z
DTSTART:20261016T140000Z
DTEND:20261016T210000Z
LOCATION:Mead Public Library, 710 N. 8th Street, Sheboygan, WI 53081, Unit
 ed States
ROOM: Rocca Meeting Room
DESCRIPTION:
URL:https://www.meadpl.org/event/friends-big-book-sale-42947
END:VEVENT
END:VCALENDAR
