BEGIN:VCALENDAR
VERSION:2.0
PRODID:-//Library Market//iCal Export//EN
BEGIN:VEVENT
SUMMARY:STEMist-in-Residence: Amanda Strojinc
UID:42767
DTSTAMP:20260425T132900Z
DTSTART:20260813T223000Z
DTEND:20260814T000000Z
LOCATION:Mead Public Library, 710 N. 8th Street, Sheboygan, WI 53081, Unit
 ed States
ROOM: Imaginarium
DESCRIPTION:Join our STEMist-in-Residence, Amanda Strojinc, as she leads u
 s through applied science classes in the form of homesteading and a commun
 ity project.   Amanda Strojinc was born and raised in Sheboygan and is 
 a registered nurse by trade, working part-time in public health. She is a
  proud educator who teaches a wide variety of subjects relating to homeste
 ading and prepping with a sustainability focus. This includes canning and 
 home food preservation, beekeeping, backyard chicken flock husbandry, seed
  saving and starting, garden planning, fermentation, and some kitchen skil
 ls like bread and pasta making, to name a few.  Amanda&#039;s classes ca
 n be found in various settings, including demonstration kitchens, librarie
 s, technical colleges, local recreation departments, and private homes. S
 he enjoys sharing her knowledge with others in a relaxed and interactive s
 etting.Amanda also has a line of small batch, handcrafted foods and non-fo
 od items for sale at local Farmer’s Markets and her road stand under her
  brand, Hopefully Homesteading.  Additionally, she makes and labels a few
  offerings for Stefano’s SloFood Market. 
URL:https://www.meadpl.org/event/residency-42767
END:VEVENT
END:VCALENDAR
