BEGIN:VCALENDAR
VERSION:2.0
PRODID:-//Library Market//iCal Export//EN
BEGIN:VEVENT
SUMMARY:Shakespeare Club
UID:41623
DTSTAMP:20260421T003300Z
DTSTART:20260613T180000Z
DTEND:20260613T210000Z
LOCATION:Mead Public Library, 710 N. 8th Street, Sheboygan, WI 53081, Unit
 ed States
ROOM: The Loft
DESCRIPTION:Do you love the work of William Shakespeare? Have you ever fel
 t challenged by his language or themes? Want to try to explore something n
 ew? Then join us for our pilot meeting of the Mead Shakespeare Club! Once 
 a month, our club will meet to discuss, explore, and read through most of 
 one of the Immortal Bard’s best-known works. Led by Seven Ages Theatrica
 ls’ Artistic Director Tom Berger, each month will begin with a brief dis
 cussion of the play and its history, a read-through of the major moments o
 f the text, ending with a satisfying conversation on what we discovered to
 gether along the way and what new questions have arisen to explore further
 .  We will have copies of the text ready to pick up at Mead&#039;s first
  floor desk in advance of meetings, or just come in and read cold. You can
  even just come to listen! We can also provide you with a digital copy of 
 the text to read from a mobile device or tablet if that’s more convenien
 t for you. Otherwise, just bring your mind, your voice, and  your questio
 ns as we begin our exploration of the world&#039;s greatest playwright. T
 his summer we will be discussing:June 13: Julius CaesarJuly 11: The Winter
 &#039;s TaleAugust 8: Henry V
URL:https://www.meadpl.org/event/shakespeare-club-41623
END:VEVENT
END:VCALENDAR
