BEGIN:VCALENDAR
VERSION:2.0
PRODID:-//Library Market//iCal Export//EN
BEGIN:VEVENT
SUMMARY:Non-Fiction Book Discussion
UID:41608
DTSTAMP:20260421T003700Z
DTSTART:20260608T230000Z
DTEND:20260609T000000Z
LOCATION:Mead Public Library, 710 N. 8th Street, Sheboygan, WI 53081, Unit
 ed States
ROOM: Public Conference Room #1
DESCRIPTION:Join Leighanne Metter-Jensen to discuss a different non-fictio
 n book each month. Book selections can be checked out at the first floor d
 esk the month prior to discussion.The Summer Reading List:June 8 The Serv
 iceberry: Abundance and Reciprocity in the Natural World (2024) by Robin W
 all KimmererJuly 13: No More Tears: The Dark Secrets of Johnson &amp; Joh
 nson (2025) by Gardiner HarrisAugust 10: Beaverland: How One Weird Rodent
  Made America (2022) by Leila Philip
URL:https://www.meadpl.org/event/non-fiction-book-discussion-41608
END:VEVENT
END:VCALENDAR
